BEGIN:VCALENDAR
VERSION:2.0
PRODID:-//Pilgrim Lutheran Church - ECPv6.15.20//NONSGML v1.0//EN
CALSCALE:GREGORIAN
METHOD:PUBLISH
X-ORIGINAL-URL:https://pilgrimsm.org
X-WR-CALDESC:Events for Pilgrim Lutheran Church
REFRESH-INTERVAL;VALUE=DURATION:PT1H
X-Robots-Tag:noindex
X-PUBLISHED-TTL:PT1H
BEGIN:VTIMEZONE
TZID:America/Los_Angeles
BEGIN:DAYLIGHT
TZOFFSETFROM:-0800
TZOFFSETTO:-0700
TZNAME:PDT
DTSTART:20250309T100000
END:DAYLIGHT
BEGIN:STANDARD
TZOFFSETFROM:-0700
TZOFFSETTO:-0800
TZNAME:PST
DTSTART:20251102T090000
END:STANDARD
BEGIN:DAYLIGHT
TZOFFSETFROM:-0800
TZOFFSETTO:-0700
TZNAME:PDT
DTSTART:20260308T100000
END:DAYLIGHT
BEGIN:STANDARD
TZOFFSETFROM:-0700
TZOFFSETTO:-0800
TZNAME:PST
DTSTART:20261101T090000
END:STANDARD
BEGIN:DAYLIGHT
TZOFFSETFROM:-0800
TZOFFSETTO:-0700
TZNAME:PDT
DTSTART:20270314T100000
END:DAYLIGHT
BEGIN:STANDARD
TZOFFSETFROM:-0700
TZOFFSETTO:-0800
TZNAME:PST
DTSTART:20271107T090000
END:STANDARD
END:VTIMEZONE
BEGIN:VEVENT
DTSTART;TZID=America/Los_Angeles:20260325T190000
DTEND;TZID=America/Los_Angeles:20260325T200000
DTSTAMP:20260423T170112
CREATED:20260204T225422Z
LAST-MODIFIED:20260204T233451Z
UID:10001679-1774465200-1774468800@pilgrimsm.org
SUMMARY:Mid-Week Lenten Services
DESCRIPTION:Join Pilgrim for mid-week lent services where we will focus on Christ’s road to the cross and resurrection on Easter Sunday.
URL:https://pilgrimsm.org/event/mid-week-lenten-services-2/2026-03-25/
LOCATION:First Lutheran Church of Venice\, 815 Venice Blvd\, Venice\, 90291\, United States
CATEGORIES:Service,Worship
ATTACH;FMTTYPE=image/png:https://pilgrimsm.org/wp-content/uploads/2026/02/Untitled-design.png
END:VEVENT
BEGIN:VEVENT
DTSTART;TZID=America/Los_Angeles:20260311T190000
DTEND;TZID=America/Los_Angeles:20260311T200000
DTSTAMP:20260423T170112
CREATED:20260204T225422Z
LAST-MODIFIED:20260204T233451Z
UID:10001678-1773255600-1773259200@pilgrimsm.org
SUMMARY:Mid-Week Lenten Services
DESCRIPTION:Join Pilgrim for mid-week lent services where we will focus on Christ’s road to the cross and resurrection on Easter Sunday.
URL:https://pilgrimsm.org/event/mid-week-lenten-services-2/2026-03-11/
LOCATION:First Lutheran Church of Venice\, 815 Venice Blvd\, Venice\, 90291\, United States
CATEGORIES:Service,Worship
ATTACH;FMTTYPE=image/png:https://pilgrimsm.org/wp-content/uploads/2026/02/Untitled-design.png
END:VEVENT
BEGIN:VEVENT
DTSTART;TZID=America/Los_Angeles:20260225T190000
DTEND;TZID=America/Los_Angeles:20260225T200000
DTSTAMP:20260423T170112
CREATED:20260204T225422Z
LAST-MODIFIED:20260204T233451Z
UID:10001686-1772046000-1772049600@pilgrimsm.org
SUMMARY:Mid-Week Lenten Services
DESCRIPTION:Join Pilgrim for mid-week lent services where we will focus on Christ’s road to the cross and resurrection on Easter Sunday.
URL:https://pilgrimsm.org/event/mid-week-lenten-services-2/2026-02-25/
LOCATION:First Lutheran Church of Venice\, 815 Venice Blvd\, Venice\, 90291\, United States
CATEGORIES:Service,Worship
ATTACH;FMTTYPE=image/png:https://pilgrimsm.org/wp-content/uploads/2026/02/Untitled-design.png
END:VEVENT
END:VCALENDAR