BEGIN:VCALENDAR
VERSION:2.0
PRODID:-//Pilgrim Lutheran Church - ECPv6.15.20//NONSGML v1.0//EN
CALSCALE:GREGORIAN
METHOD:PUBLISH
X-ORIGINAL-URL:https://pilgrimsm.org
X-WR-CALDESC:Events for Pilgrim Lutheran Church
REFRESH-INTERVAL;VALUE=DURATION:PT1H
X-Robots-Tag:noindex
X-PUBLISHED-TTL:PT1H
BEGIN:VTIMEZONE
TZID:America/Los_Angeles
BEGIN:DAYLIGHT
TZOFFSETFROM:-0800
TZOFFSETTO:-0700
TZNAME:PDT
DTSTART:20250309T100000
END:DAYLIGHT
BEGIN:STANDARD
TZOFFSETFROM:-0700
TZOFFSETTO:-0800
TZNAME:PST
DTSTART:20251102T090000
END:STANDARD
BEGIN:DAYLIGHT
TZOFFSETFROM:-0800
TZOFFSETTO:-0700
TZNAME:PDT
DTSTART:20260308T100000
END:DAYLIGHT
BEGIN:STANDARD
TZOFFSETFROM:-0700
TZOFFSETTO:-0800
TZNAME:PST
DTSTART:20261101T090000
END:STANDARD
BEGIN:DAYLIGHT
TZOFFSETFROM:-0800
TZOFFSETTO:-0700
TZNAME:PDT
DTSTART:20270314T100000
END:DAYLIGHT
BEGIN:STANDARD
TZOFFSETFROM:-0700
TZOFFSETTO:-0800
TZNAME:PST
DTSTART:20271107T090000
END:STANDARD
END:VTIMEZONE
BEGIN:VEVENT
DTSTART;TZID=America/Los_Angeles:20260304T190000
DTEND;TZID=America/Los_Angeles:20260304T200000
DTSTAMP:20260423T150346
CREATED:20260204T225125Z
LAST-MODIFIED:20260204T225540Z
UID:10001674-1772650800-1772654400@pilgrimsm.org
SUMMARY:Mid-Week Lenten Services
DESCRIPTION:Join Pilgrim for mid-week lent services where we will focus on Christ’s road to the cross and resurrection on Easter Sunday.
URL:https://pilgrimsm.org/event/mid-week-lenten-services/2026-03-04/
LOCATION:Pilgrim Lutheran Church\, 1730 Wilshire Blvd.\, Santa Monica\, CA\, 90403\, United States
CATEGORIES:Service,Worship
ATTACH;FMTTYPE=image/png:https://pilgrimsm.org/wp-content/uploads/2026/02/Untitled-design.png
GEO:40.602991;-73.959517
X-APPLE-STRUCTURED-LOCATION;VALUE=URI;X-ADDRESS=Pilgrim Lutheran Church 1730 Wilshire Blvd. Santa Monica CA 90403 United States;X-APPLE-RADIUS=500;X-TITLE=1730 Wilshire Blvd.:geo:-73.959517,40.602991
END:VEVENT
BEGIN:VEVENT
DTSTART;TZID=America/Los_Angeles:20260308T090000
DTEND;TZID=America/Los_Angeles:20260308T095000
DTSTAMP:20260423T150346
CREATED:20260204T222031Z
LAST-MODIFIED:20260204T222031Z
UID:10001417-1772960400-1772963400@pilgrimsm.org
SUMMARY:Sunday Bible Study
DESCRIPTION:Join Pilgrim Lutheran Church as we dig into the Bible before every Sunday service. We gather to seek wisdom and truth from God’s word\, asking difficult questions and learning about the context of each passage. \n 
URL:https://pilgrimsm.org/event/sunday-bible-study/2026-03-08/
LOCATION:Pilgrim Lutheran Church\, 1730 Wilshire Blvd.\, Santa Monica\, CA\, 90403\, United States
CATEGORIES:Bible Study,Community
ATTACH;FMTTYPE=image/jpeg:https://pilgrimsm.org/wp-content/uploads/2025/02/iStock-2148218840-scaled.jpg
GEO:40.602991;-73.959517
X-APPLE-STRUCTURED-LOCATION;VALUE=URI;X-ADDRESS=Pilgrim Lutheran Church 1730 Wilshire Blvd. Santa Monica CA 90403 United States;X-APPLE-RADIUS=500;X-TITLE=1730 Wilshire Blvd.:geo:-73.959517,40.602991
END:VEVENT
BEGIN:VEVENT
DTSTART;TZID=America/Los_Angeles:20260308T100000
DTEND;TZID=America/Los_Angeles:20260308T113000
DTSTAMP:20260423T150346
CREATED:20260204T221529Z
LAST-MODIFIED:20260204T233150Z
UID:10001156-1772964000-1772969400@pilgrimsm.org
SUMMARY:Divine Sunday Service
DESCRIPTION:Join us at Pilgrim Lutheran Church to worship the Lord together and enjoy one another’s fellowship! All are welcomed! \nOur service is liturgical in that it follows a familiar structure every week varying in the songs sung and scripture read. We acknowledge our sins before God and one another\, offering our repentant hearts and joyful voices\, as we praise God in thanksgiving for His grace and mercy for us. \nCome find out what it means to be made in God’s image and why it is so hard to see that truth for the beauty it is.
URL:https://pilgrimsm.org/event/divine-sunday-service/2026-03-08/
LOCATION:Pilgrim Lutheran Church\, 1730 Wilshire Blvd.\, Santa Monica\, CA\, 90403\, United States
CATEGORIES:Service,Worship
ATTACH;FMTTYPE=image/jpeg:https://pilgrimsm.org/wp-content/uploads/2020/07/calendar_insideworship-1.jpg
GEO:40.602991;-73.959517
X-APPLE-STRUCTURED-LOCATION;VALUE=URI;X-ADDRESS=Pilgrim Lutheran Church 1730 Wilshire Blvd. Santa Monica CA 90403 United States;X-APPLE-RADIUS=500;X-TITLE=1730 Wilshire Blvd.:geo:-73.959517,40.602991
END:VEVENT
END:VCALENDAR