BEGIN:VCALENDAR
VERSION:2.0
PRODID:-//Pilgrim Lutheran Church - ECPv6.15.20//NONSGML v1.0//EN
CALSCALE:GREGORIAN
METHOD:PUBLISH
X-WR-CALNAME:Pilgrim Lutheran Church
X-ORIGINAL-URL:https://pilgrimsm.org
X-WR-CALDESC:Events for Pilgrim Lutheran Church
REFRESH-INTERVAL;VALUE=DURATION:PT1H
X-Robots-Tag:noindex
X-PUBLISHED-TTL:PT1H
BEGIN:VTIMEZONE
TZID:America/Los_Angeles
BEGIN:DAYLIGHT
TZOFFSETFROM:-0800
TZOFFSETTO:-0700
TZNAME:PDT
DTSTART:20250309T100000
END:DAYLIGHT
BEGIN:STANDARD
TZOFFSETFROM:-0700
TZOFFSETTO:-0800
TZNAME:PST
DTSTART:20251102T090000
END:STANDARD
BEGIN:DAYLIGHT
TZOFFSETFROM:-0800
TZOFFSETTO:-0700
TZNAME:PDT
DTSTART:20260308T100000
END:DAYLIGHT
BEGIN:STANDARD
TZOFFSETFROM:-0700
TZOFFSETTO:-0800
TZNAME:PST
DTSTART:20261101T090000
END:STANDARD
BEGIN:DAYLIGHT
TZOFFSETFROM:-0800
TZOFFSETTO:-0700
TZNAME:PDT
DTSTART:20270314T100000
END:DAYLIGHT
BEGIN:STANDARD
TZOFFSETFROM:-0700
TZOFFSETTO:-0800
TZNAME:PST
DTSTART:20271107T090000
END:STANDARD
END:VTIMEZONE
BEGIN:VEVENT
DTSTART;TZID=America/Los_Angeles:20260208T100000
DTEND;TZID=America/Los_Angeles:20260208T113000
DTSTAMP:20260423T163153
CREATED:20260204T221529Z
LAST-MODIFIED:20260204T233150Z
UID:10001152-1770544800-1770550200@pilgrimsm.org
SUMMARY:Divine Sunday Service
DESCRIPTION:Join us at Pilgrim Lutheran Church to worship the Lord together and enjoy one another’s fellowship! All are welcomed! \nOur service is liturgical in that it follows a familiar structure every week varying in the songs sung and scripture read. We acknowledge our sins before God and one another\, offering our repentant hearts and joyful voices\, as we praise God in thanksgiving for His grace and mercy for us. \nCome find out what it means to be made in God’s image and why it is so hard to see that truth for the beauty it is.
URL:https://pilgrimsm.org/event/divine-sunday-service/2026-02-08/
LOCATION:Pilgrim Lutheran Church\, 1730 Wilshire Blvd.\, Santa Monica\, CA\, 90403\, United States
CATEGORIES:Service,Worship
ATTACH;FMTTYPE=image/jpeg:https://pilgrimsm.org/wp-content/uploads/2020/07/calendar_insideworship-1.jpg
GEO:40.602991;-73.959517
X-APPLE-STRUCTURED-LOCATION;VALUE=URI;X-ADDRESS=Pilgrim Lutheran Church 1730 Wilshire Blvd. Santa Monica CA 90403 United States;X-APPLE-RADIUS=500;X-TITLE=1730 Wilshire Blvd.:geo:-73.959517,40.602991
END:VEVENT
BEGIN:VEVENT
DTSTART;TZID=America/Los_Angeles:20260215T100000
DTEND;TZID=America/Los_Angeles:20260215T113000
DTSTAMP:20260423T163153
CREATED:20260204T221529Z
LAST-MODIFIED:20260204T233150Z
UID:10001153-1771149600-1771155000@pilgrimsm.org
SUMMARY:Divine Sunday Service
DESCRIPTION:Join us at Pilgrim Lutheran Church to worship the Lord together and enjoy one another’s fellowship! All are welcomed! \nOur service is liturgical in that it follows a familiar structure every week varying in the songs sung and scripture read. We acknowledge our sins before God and one another\, offering our repentant hearts and joyful voices\, as we praise God in thanksgiving for His grace and mercy for us. \nCome find out what it means to be made in God’s image and why it is so hard to see that truth for the beauty it is.
URL:https://pilgrimsm.org/event/divine-sunday-service/2026-02-15/
LOCATION:Pilgrim Lutheran Church\, 1730 Wilshire Blvd.\, Santa Monica\, CA\, 90403\, United States
CATEGORIES:Service,Worship
ATTACH;FMTTYPE=image/jpeg:https://pilgrimsm.org/wp-content/uploads/2020/07/calendar_insideworship-1.jpg
GEO:40.602991;-73.959517
X-APPLE-STRUCTURED-LOCATION;VALUE=URI;X-ADDRESS=Pilgrim Lutheran Church 1730 Wilshire Blvd. Santa Monica CA 90403 United States;X-APPLE-RADIUS=500;X-TITLE=1730 Wilshire Blvd.:geo:-73.959517,40.602991
END:VEVENT
BEGIN:VEVENT
DTSTART;TZID=America/Los_Angeles:20260218T190000
DTEND;TZID=America/Los_Angeles:20260218T200000
DTSTAMP:20260423T163153
CREATED:20260204T230159Z
LAST-MODIFIED:20260204T232624Z
UID:10001680-1771441200-1771444800@pilgrimsm.org
SUMMARY:Ash Wednesday Evening Service
DESCRIPTION:Join Pilgrim as we come together to remember that from dust God created us\, and to dust we shall return. However\, we celebrate in knowing that we are eternal beings and God will have a new heaven and a new earth for those whom He calls His children.
URL:https://pilgrimsm.org/event/ash-wednesday-evening-service/
LOCATION:Pilgrim Lutheran Church\, 1730 Wilshire Blvd.\, Santa Monica\, CA\, 90403\, United States
CATEGORIES:Service,Worship
ATTACH;FMTTYPE=image/jpeg:https://pilgrimsm.org/wp-content/uploads/2025/03/4792071-e1741221516917.jpg
GEO:40.602991;-73.959517
X-APPLE-STRUCTURED-LOCATION;VALUE=URI;X-ADDRESS=Pilgrim Lutheran Church 1730 Wilshire Blvd. Santa Monica CA 90403 United States;X-APPLE-RADIUS=500;X-TITLE=1730 Wilshire Blvd.:geo:-73.959517,40.602991
END:VEVENT
BEGIN:VEVENT
DTSTART;TZID=America/Los_Angeles:20260222T100000
DTEND;TZID=America/Los_Angeles:20260222T113000
DTSTAMP:20260423T163153
CREATED:20260204T221529Z
LAST-MODIFIED:20260204T233150Z
UID:10001154-1771754400-1771759800@pilgrimsm.org
SUMMARY:Divine Sunday Service
DESCRIPTION:Join us at Pilgrim Lutheran Church to worship the Lord together and enjoy one another’s fellowship! All are welcomed! \nOur service is liturgical in that it follows a familiar structure every week varying in the songs sung and scripture read. We acknowledge our sins before God and one another\, offering our repentant hearts and joyful voices\, as we praise God in thanksgiving for His grace and mercy for us. \nCome find out what it means to be made in God’s image and why it is so hard to see that truth for the beauty it is.
URL:https://pilgrimsm.org/event/divine-sunday-service/2026-02-22/
LOCATION:Pilgrim Lutheran Church\, 1730 Wilshire Blvd.\, Santa Monica\, CA\, 90403\, United States
CATEGORIES:Service,Worship
ATTACH;FMTTYPE=image/jpeg:https://pilgrimsm.org/wp-content/uploads/2020/07/calendar_insideworship-1.jpg
GEO:40.602991;-73.959517
X-APPLE-STRUCTURED-LOCATION;VALUE=URI;X-ADDRESS=Pilgrim Lutheran Church 1730 Wilshire Blvd. Santa Monica CA 90403 United States;X-APPLE-RADIUS=500;X-TITLE=1730 Wilshire Blvd.:geo:-73.959517,40.602991
END:VEVENT
BEGIN:VEVENT
DTSTART;TZID=America/Los_Angeles:20260225T190000
DTEND;TZID=America/Los_Angeles:20260225T200000
DTSTAMP:20260423T163153
CREATED:20260204T225422Z
LAST-MODIFIED:20260204T233451Z
UID:10001686-1772046000-1772049600@pilgrimsm.org
SUMMARY:Mid-Week Lenten Services
DESCRIPTION:Join Pilgrim for mid-week lent services where we will focus on Christ’s road to the cross and resurrection on Easter Sunday.
URL:https://pilgrimsm.org/event/mid-week-lenten-services-2/2026-02-25/
LOCATION:First Lutheran Church of Venice\, 815 Venice Blvd\, Venice\, 90291\, United States
CATEGORIES:Service,Worship
ATTACH;FMTTYPE=image/png:https://pilgrimsm.org/wp-content/uploads/2026/02/Untitled-design.png
END:VEVENT
END:VCALENDAR