BEGIN:VCALENDAR
VERSION:2.0
PRODID:-//Pilgrim Lutheran Church - ECPv6.15.20//NONSGML v1.0//EN
CALSCALE:GREGORIAN
METHOD:PUBLISH
X-WR-CALNAME:Pilgrim Lutheran Church
X-ORIGINAL-URL:https://pilgrimsm.org
X-WR-CALDESC:Events for Pilgrim Lutheran Church
REFRESH-INTERVAL;VALUE=DURATION:PT1H
X-Robots-Tag:noindex
X-PUBLISHED-TTL:PT1H
BEGIN:VTIMEZONE
TZID:America/Los_Angeles
BEGIN:DAYLIGHT
TZOFFSETFROM:-0800
TZOFFSETTO:-0700
TZNAME:PDT
DTSTART:20290311T100000
END:DAYLIGHT
BEGIN:STANDARD
TZOFFSETFROM:-0700
TZOFFSETTO:-0800
TZNAME:PST
DTSTART:20291104T090000
END:STANDARD
BEGIN:DAYLIGHT
TZOFFSETFROM:-0800
TZOFFSETTO:-0700
TZNAME:PDT
DTSTART:20300310T100000
END:DAYLIGHT
BEGIN:STANDARD
TZOFFSETFROM:-0700
TZOFFSETTO:-0800
TZNAME:PST
DTSTART:20301103T090000
END:STANDARD
BEGIN:DAYLIGHT
TZOFFSETFROM:-0800
TZOFFSETTO:-0700
TZNAME:PDT
DTSTART:20310309T100000
END:DAYLIGHT
BEGIN:STANDARD
TZOFFSETFROM:-0700
TZOFFSETTO:-0800
TZNAME:PST
DTSTART:20311102T090000
END:STANDARD
BEGIN:DAYLIGHT
TZOFFSETFROM:-0800
TZOFFSETTO:-0700
TZNAME:PDT
DTSTART:20320314T100000
END:DAYLIGHT
BEGIN:STANDARD
TZOFFSETFROM:-0700
TZOFFSETTO:-0800
TZNAME:PST
DTSTART:20321107T090000
END:STANDARD
END:VTIMEZONE
BEGIN:VEVENT
DTSTART;TZID=America/Los_Angeles:20301103T090000
DTEND;TZID=America/Los_Angeles:20301103T095000
DTSTAMP:20260425T085205
CREATED:20260204T222031Z
LAST-MODIFIED:20260204T222031Z
UID:10001660-1919926800-1919929800@pilgrimsm.org
SUMMARY:Sunday Bible Study
DESCRIPTION:Join Pilgrim Lutheran Church as we dig into the Bible before every Sunday service. We gather to seek wisdom and truth from God’s word\, asking difficult questions and learning about the context of each passage. \n 
URL:https://pilgrimsm.org/event/sunday-bible-study/2030-11-03/
LOCATION:Pilgrim Lutheran Church\, 1730 Wilshire Blvd.\, Santa Monica\, CA\, 90403\, United States
CATEGORIES:Bible Study,Community
ATTACH;FMTTYPE=image/jpeg:https://pilgrimsm.org/wp-content/uploads/2025/02/iStock-2148218840-scaled.jpg
GEO:40.602991;-73.959517
X-APPLE-STRUCTURED-LOCATION;VALUE=URI;X-ADDRESS=Pilgrim Lutheran Church 1730 Wilshire Blvd. Santa Monica CA 90403 United States;X-APPLE-RADIUS=500;X-TITLE=1730 Wilshire Blvd.:geo:-73.959517,40.602991
END:VEVENT
BEGIN:VEVENT
DTSTART;TZID=America/Los_Angeles:20301110T090000
DTEND;TZID=America/Los_Angeles:20301110T095000
DTSTAMP:20260425T085205
CREATED:20260204T222031Z
LAST-MODIFIED:20260204T222031Z
UID:10001661-1920531600-1920534600@pilgrimsm.org
SUMMARY:Sunday Bible Study
DESCRIPTION:Join Pilgrim Lutheran Church as we dig into the Bible before every Sunday service. We gather to seek wisdom and truth from God’s word\, asking difficult questions and learning about the context of each passage. \n 
URL:https://pilgrimsm.org/event/sunday-bible-study/2030-11-10/
LOCATION:Pilgrim Lutheran Church\, 1730 Wilshire Blvd.\, Santa Monica\, CA\, 90403\, United States
CATEGORIES:Bible Study,Community
ATTACH;FMTTYPE=image/jpeg:https://pilgrimsm.org/wp-content/uploads/2025/02/iStock-2148218840-scaled.jpg
GEO:40.602991;-73.959517
X-APPLE-STRUCTURED-LOCATION;VALUE=URI;X-ADDRESS=Pilgrim Lutheran Church 1730 Wilshire Blvd. Santa Monica CA 90403 United States;X-APPLE-RADIUS=500;X-TITLE=1730 Wilshire Blvd.:geo:-73.959517,40.602991
END:VEVENT
BEGIN:VEVENT
DTSTART;TZID=America/Los_Angeles:20301117T090000
DTEND;TZID=America/Los_Angeles:20301117T095000
DTSTAMP:20260425T085205
CREATED:20260204T222031Z
LAST-MODIFIED:20260204T222031Z
UID:10001662-1921136400-1921139400@pilgrimsm.org
SUMMARY:Sunday Bible Study
DESCRIPTION:Join Pilgrim Lutheran Church as we dig into the Bible before every Sunday service. We gather to seek wisdom and truth from God’s word\, asking difficult questions and learning about the context of each passage. \n 
URL:https://pilgrimsm.org/event/sunday-bible-study/2030-11-17/
LOCATION:Pilgrim Lutheran Church\, 1730 Wilshire Blvd.\, Santa Monica\, CA\, 90403\, United States
CATEGORIES:Bible Study,Community
ATTACH;FMTTYPE=image/jpeg:https://pilgrimsm.org/wp-content/uploads/2025/02/iStock-2148218840-scaled.jpg
GEO:40.602991;-73.959517
X-APPLE-STRUCTURED-LOCATION;VALUE=URI;X-ADDRESS=Pilgrim Lutheran Church 1730 Wilshire Blvd. Santa Monica CA 90403 United States;X-APPLE-RADIUS=500;X-TITLE=1730 Wilshire Blvd.:geo:-73.959517,40.602991
END:VEVENT
BEGIN:VEVENT
DTSTART;TZID=America/Los_Angeles:20301124T090000
DTEND;TZID=America/Los_Angeles:20301124T095000
DTSTAMP:20260425T085205
CREATED:20260204T222031Z
LAST-MODIFIED:20260204T222031Z
UID:10001663-1921741200-1921744200@pilgrimsm.org
SUMMARY:Sunday Bible Study
DESCRIPTION:Join Pilgrim Lutheran Church as we dig into the Bible before every Sunday service. We gather to seek wisdom and truth from God’s word\, asking difficult questions and learning about the context of each passage. \n 
URL:https://pilgrimsm.org/event/sunday-bible-study/2030-11-24/
LOCATION:Pilgrim Lutheran Church\, 1730 Wilshire Blvd.\, Santa Monica\, CA\, 90403\, United States
CATEGORIES:Bible Study,Community
ATTACH;FMTTYPE=image/jpeg:https://pilgrimsm.org/wp-content/uploads/2025/02/iStock-2148218840-scaled.jpg
GEO:40.602991;-73.959517
X-APPLE-STRUCTURED-LOCATION;VALUE=URI;X-ADDRESS=Pilgrim Lutheran Church 1730 Wilshire Blvd. Santa Monica CA 90403 United States;X-APPLE-RADIUS=500;X-TITLE=1730 Wilshire Blvd.:geo:-73.959517,40.602991
END:VEVENT
BEGIN:VEVENT
DTSTART;TZID=America/Los_Angeles:20301201T090000
DTEND;TZID=America/Los_Angeles:20301201T095000
DTSTAMP:20260425T085205
CREATED:20260204T222031Z
LAST-MODIFIED:20260204T222031Z
UID:10001664-1922346000-1922349000@pilgrimsm.org
SUMMARY:Sunday Bible Study
DESCRIPTION:Join Pilgrim Lutheran Church as we dig into the Bible before every Sunday service. We gather to seek wisdom and truth from God’s word\, asking difficult questions and learning about the context of each passage. \n 
URL:https://pilgrimsm.org/event/sunday-bible-study/2030-12-01/
LOCATION:Pilgrim Lutheran Church\, 1730 Wilshire Blvd.\, Santa Monica\, CA\, 90403\, United States
CATEGORIES:Bible Study,Community
ATTACH;FMTTYPE=image/jpeg:https://pilgrimsm.org/wp-content/uploads/2025/02/iStock-2148218840-scaled.jpg
GEO:40.602991;-73.959517
X-APPLE-STRUCTURED-LOCATION;VALUE=URI;X-ADDRESS=Pilgrim Lutheran Church 1730 Wilshire Blvd. Santa Monica CA 90403 United States;X-APPLE-RADIUS=500;X-TITLE=1730 Wilshire Blvd.:geo:-73.959517,40.602991
END:VEVENT
BEGIN:VEVENT
DTSTART;TZID=America/Los_Angeles:20301208T090000
DTEND;TZID=America/Los_Angeles:20301208T095000
DTSTAMP:20260425T085205
CREATED:20260204T222031Z
LAST-MODIFIED:20260204T222031Z
UID:10001665-1922950800-1922953800@pilgrimsm.org
SUMMARY:Sunday Bible Study
DESCRIPTION:Join Pilgrim Lutheran Church as we dig into the Bible before every Sunday service. We gather to seek wisdom and truth from God’s word\, asking difficult questions and learning about the context of each passage. \n 
URL:https://pilgrimsm.org/event/sunday-bible-study/2030-12-08/
LOCATION:Pilgrim Lutheran Church\, 1730 Wilshire Blvd.\, Santa Monica\, CA\, 90403\, United States
CATEGORIES:Bible Study,Community
ATTACH;FMTTYPE=image/jpeg:https://pilgrimsm.org/wp-content/uploads/2025/02/iStock-2148218840-scaled.jpg
GEO:40.602991;-73.959517
X-APPLE-STRUCTURED-LOCATION;VALUE=URI;X-ADDRESS=Pilgrim Lutheran Church 1730 Wilshire Blvd. Santa Monica CA 90403 United States;X-APPLE-RADIUS=500;X-TITLE=1730 Wilshire Blvd.:geo:-73.959517,40.602991
END:VEVENT
BEGIN:VEVENT
DTSTART;TZID=America/Los_Angeles:20301215T090000
DTEND;TZID=America/Los_Angeles:20301215T095000
DTSTAMP:20260425T085205
CREATED:20260204T222031Z
LAST-MODIFIED:20260204T222031Z
UID:10001666-1923555600-1923558600@pilgrimsm.org
SUMMARY:Sunday Bible Study
DESCRIPTION:Join Pilgrim Lutheran Church as we dig into the Bible before every Sunday service. We gather to seek wisdom and truth from God’s word\, asking difficult questions and learning about the context of each passage. \n 
URL:https://pilgrimsm.org/event/sunday-bible-study/2030-12-15/
LOCATION:Pilgrim Lutheran Church\, 1730 Wilshire Blvd.\, Santa Monica\, CA\, 90403\, United States
CATEGORIES:Bible Study,Community
ATTACH;FMTTYPE=image/jpeg:https://pilgrimsm.org/wp-content/uploads/2025/02/iStock-2148218840-scaled.jpg
GEO:40.602991;-73.959517
X-APPLE-STRUCTURED-LOCATION;VALUE=URI;X-ADDRESS=Pilgrim Lutheran Church 1730 Wilshire Blvd. Santa Monica CA 90403 United States;X-APPLE-RADIUS=500;X-TITLE=1730 Wilshire Blvd.:geo:-73.959517,40.602991
END:VEVENT
BEGIN:VEVENT
DTSTART;TZID=America/Los_Angeles:20301222T090000
DTEND;TZID=America/Los_Angeles:20301222T095000
DTSTAMP:20260425T085205
CREATED:20260204T222031Z
LAST-MODIFIED:20260204T222031Z
UID:10001667-1924160400-1924163400@pilgrimsm.org
SUMMARY:Sunday Bible Study
DESCRIPTION:Join Pilgrim Lutheran Church as we dig into the Bible before every Sunday service. We gather to seek wisdom and truth from God’s word\, asking difficult questions and learning about the context of each passage. \n 
URL:https://pilgrimsm.org/event/sunday-bible-study/2030-12-22/
LOCATION:Pilgrim Lutheran Church\, 1730 Wilshire Blvd.\, Santa Monica\, CA\, 90403\, United States
CATEGORIES:Bible Study,Community
ATTACH;FMTTYPE=image/jpeg:https://pilgrimsm.org/wp-content/uploads/2025/02/iStock-2148218840-scaled.jpg
GEO:40.602991;-73.959517
X-APPLE-STRUCTURED-LOCATION;VALUE=URI;X-ADDRESS=Pilgrim Lutheran Church 1730 Wilshire Blvd. Santa Monica CA 90403 United States;X-APPLE-RADIUS=500;X-TITLE=1730 Wilshire Blvd.:geo:-73.959517,40.602991
END:VEVENT
BEGIN:VEVENT
DTSTART;TZID=America/Los_Angeles:20301229T090000
DTEND;TZID=America/Los_Angeles:20301229T095000
DTSTAMP:20260425T085205
CREATED:20260204T222031Z
LAST-MODIFIED:20260204T222031Z
UID:10001668-1924765200-1924768200@pilgrimsm.org
SUMMARY:Sunday Bible Study
DESCRIPTION:Join Pilgrim Lutheran Church as we dig into the Bible before every Sunday service. We gather to seek wisdom and truth from God’s word\, asking difficult questions and learning about the context of each passage. \n 
URL:https://pilgrimsm.org/event/sunday-bible-study/2030-12-29/
LOCATION:Pilgrim Lutheran Church\, 1730 Wilshire Blvd.\, Santa Monica\, CA\, 90403\, United States
CATEGORIES:Bible Study,Community
ATTACH;FMTTYPE=image/jpeg:https://pilgrimsm.org/wp-content/uploads/2025/02/iStock-2148218840-scaled.jpg
GEO:40.602991;-73.959517
X-APPLE-STRUCTURED-LOCATION;VALUE=URI;X-ADDRESS=Pilgrim Lutheran Church 1730 Wilshire Blvd. Santa Monica CA 90403 United States;X-APPLE-RADIUS=500;X-TITLE=1730 Wilshire Blvd.:geo:-73.959517,40.602991
END:VEVENT
BEGIN:VEVENT
DTSTART;TZID=America/Los_Angeles:20310105T090000
DTEND;TZID=America/Los_Angeles:20310105T095000
DTSTAMP:20260425T085205
CREATED:20260204T222031Z
LAST-MODIFIED:20260204T222031Z
UID:10001669-1925370000-1925373000@pilgrimsm.org
SUMMARY:Sunday Bible Study
DESCRIPTION:Join Pilgrim Lutheran Church as we dig into the Bible before every Sunday service. We gather to seek wisdom and truth from God’s word\, asking difficult questions and learning about the context of each passage. \n 
URL:https://pilgrimsm.org/event/sunday-bible-study/2031-01-05/
LOCATION:Pilgrim Lutheran Church\, 1730 Wilshire Blvd.\, Santa Monica\, CA\, 90403\, United States
CATEGORIES:Bible Study,Community
ATTACH;FMTTYPE=image/jpeg:https://pilgrimsm.org/wp-content/uploads/2025/02/iStock-2148218840-scaled.jpg
GEO:40.602991;-73.959517
X-APPLE-STRUCTURED-LOCATION;VALUE=URI;X-ADDRESS=Pilgrim Lutheran Church 1730 Wilshire Blvd. Santa Monica CA 90403 United States;X-APPLE-RADIUS=500;X-TITLE=1730 Wilshire Blvd.:geo:-73.959517,40.602991
END:VEVENT
BEGIN:VEVENT
DTSTART;TZID=America/Los_Angeles:20310112T090000
DTEND;TZID=America/Los_Angeles:20310112T095000
DTSTAMP:20260425T085205
CREATED:20260204T222031Z
LAST-MODIFIED:20260204T222031Z
UID:10001670-1925974800-1925977800@pilgrimsm.org
SUMMARY:Sunday Bible Study
DESCRIPTION:Join Pilgrim Lutheran Church as we dig into the Bible before every Sunday service. We gather to seek wisdom and truth from God’s word\, asking difficult questions and learning about the context of each passage. \n 
URL:https://pilgrimsm.org/event/sunday-bible-study/2031-01-12/
LOCATION:Pilgrim Lutheran Church\, 1730 Wilshire Blvd.\, Santa Monica\, CA\, 90403\, United States
CATEGORIES:Bible Study,Community
ATTACH;FMTTYPE=image/jpeg:https://pilgrimsm.org/wp-content/uploads/2025/02/iStock-2148218840-scaled.jpg
GEO:40.602991;-73.959517
X-APPLE-STRUCTURED-LOCATION;VALUE=URI;X-ADDRESS=Pilgrim Lutheran Church 1730 Wilshire Blvd. Santa Monica CA 90403 United States;X-APPLE-RADIUS=500;X-TITLE=1730 Wilshire Blvd.:geo:-73.959517,40.602991
END:VEVENT
BEGIN:VEVENT
DTSTART;TZID=America/Los_Angeles:20310119T090000
DTEND;TZID=America/Los_Angeles:20310119T095000
DTSTAMP:20260425T085205
CREATED:20260204T222031Z
LAST-MODIFIED:20260204T222031Z
UID:10001671-1926579600-1926582600@pilgrimsm.org
SUMMARY:Sunday Bible Study
DESCRIPTION:Join Pilgrim Lutheran Church as we dig into the Bible before every Sunday service. We gather to seek wisdom and truth from God’s word\, asking difficult questions and learning about the context of each passage. \n 
URL:https://pilgrimsm.org/event/sunday-bible-study/2031-01-19/
LOCATION:Pilgrim Lutheran Church\, 1730 Wilshire Blvd.\, Santa Monica\, CA\, 90403\, United States
CATEGORIES:Bible Study,Community
ATTACH;FMTTYPE=image/jpeg:https://pilgrimsm.org/wp-content/uploads/2025/02/iStock-2148218840-scaled.jpg
GEO:40.602991;-73.959517
X-APPLE-STRUCTURED-LOCATION;VALUE=URI;X-ADDRESS=Pilgrim Lutheran Church 1730 Wilshire Blvd. Santa Monica CA 90403 United States;X-APPLE-RADIUS=500;X-TITLE=1730 Wilshire Blvd.:geo:-73.959517,40.602991
END:VEVENT
BEGIN:VEVENT
DTSTART;TZID=America/Los_Angeles:20310126T090000
DTEND;TZID=America/Los_Angeles:20310126T095000
DTSTAMP:20260425T085205
CREATED:20260204T222031Z
LAST-MODIFIED:20260204T222031Z
UID:10001672-1927184400-1927187400@pilgrimsm.org
SUMMARY:Sunday Bible Study
DESCRIPTION:Join Pilgrim Lutheran Church as we dig into the Bible before every Sunday service. We gather to seek wisdom and truth from God’s word\, asking difficult questions and learning about the context of each passage. \n 
URL:https://pilgrimsm.org/event/sunday-bible-study/2031-01-26/
LOCATION:Pilgrim Lutheran Church\, 1730 Wilshire Blvd.\, Santa Monica\, CA\, 90403\, United States
CATEGORIES:Bible Study,Community
ATTACH;FMTTYPE=image/jpeg:https://pilgrimsm.org/wp-content/uploads/2025/02/iStock-2148218840-scaled.jpg
GEO:40.602991;-73.959517
X-APPLE-STRUCTURED-LOCATION;VALUE=URI;X-ADDRESS=Pilgrim Lutheran Church 1730 Wilshire Blvd. Santa Monica CA 90403 United States;X-APPLE-RADIUS=500;X-TITLE=1730 Wilshire Blvd.:geo:-73.959517,40.602991
END:VEVENT
BEGIN:VEVENT
DTSTART;TZID=America/Los_Angeles:20310202T090000
DTEND;TZID=America/Los_Angeles:20310202T095000
DTSTAMP:20260425T085205
CREATED:20260204T222031Z
LAST-MODIFIED:20260204T222031Z
UID:10001673-1927789200-1927792200@pilgrimsm.org
SUMMARY:Sunday Bible Study
DESCRIPTION:Join Pilgrim Lutheran Church as we dig into the Bible before every Sunday service. We gather to seek wisdom and truth from God’s word\, asking difficult questions and learning about the context of each passage. \n 
URL:https://pilgrimsm.org/event/sunday-bible-study/2031-02-02/
LOCATION:Pilgrim Lutheran Church\, 1730 Wilshire Blvd.\, Santa Monica\, CA\, 90403\, United States
CATEGORIES:Bible Study,Community
ATTACH;FMTTYPE=image/jpeg:https://pilgrimsm.org/wp-content/uploads/2025/02/iStock-2148218840-scaled.jpg
GEO:40.602991;-73.959517
X-APPLE-STRUCTURED-LOCATION;VALUE=URI;X-ADDRESS=Pilgrim Lutheran Church 1730 Wilshire Blvd. Santa Monica CA 90403 United States;X-APPLE-RADIUS=500;X-TITLE=1730 Wilshire Blvd.:geo:-73.959517,40.602991
END:VEVENT
END:VCALENDAR