BEGIN:VCALENDAR
VERSION:2.0
PRODID:-//Pilgrim Lutheran Church - ECPv6.15.20//NONSGML v1.0//EN
CALSCALE:GREGORIAN
METHOD:PUBLISH
X-WR-CALNAME:Pilgrim Lutheran Church
X-ORIGINAL-URL:https://pilgrimsm.org
X-WR-CALDESC:Events for Pilgrim Lutheran Church
REFRESH-INTERVAL;VALUE=DURATION:PT1H
X-Robots-Tag:noindex
X-PUBLISHED-TTL:PT1H
BEGIN:VTIMEZONE
TZID:America/Los_Angeles
BEGIN:DAYLIGHT
TZOFFSETFROM:-0800
TZOFFSETTO:-0700
TZNAME:PDT
DTSTART:20250309T100000
END:DAYLIGHT
BEGIN:STANDARD
TZOFFSETFROM:-0700
TZOFFSETTO:-0800
TZNAME:PST
DTSTART:20251102T090000
END:STANDARD
BEGIN:DAYLIGHT
TZOFFSETFROM:-0800
TZOFFSETTO:-0700
TZNAME:PDT
DTSTART:20260308T100000
END:DAYLIGHT
BEGIN:STANDARD
TZOFFSETFROM:-0700
TZOFFSETTO:-0800
TZNAME:PST
DTSTART:20261101T090000
END:STANDARD
BEGIN:DAYLIGHT
TZOFFSETFROM:-0800
TZOFFSETTO:-0700
TZNAME:PDT
DTSTART:20270314T100000
END:DAYLIGHT
BEGIN:STANDARD
TZOFFSETFROM:-0700
TZOFFSETTO:-0800
TZNAME:PST
DTSTART:20271107T090000
END:STANDARD
END:VTIMEZONE
BEGIN:VEVENT
DTSTART;TZID=America/Los_Angeles:20260503T090000
DTEND;TZID=America/Los_Angeles:20260503T095000
DTSTAMP:20260423T163928
CREATED:20260204T222031Z
LAST-MODIFIED:20260204T222031Z
UID:10001425-1777798800-1777801800@pilgrimsm.org
SUMMARY:Sunday Bible Study
DESCRIPTION:Join Pilgrim Lutheran Church as we dig into the Bible before every Sunday service. We gather to seek wisdom and truth from God’s word\, asking difficult questions and learning about the context of each passage. \n 
URL:https://pilgrimsm.org/event/sunday-bible-study/2026-05-03/
LOCATION:Pilgrim Lutheran Church\, 1730 Wilshire Blvd.\, Santa Monica\, CA\, 90403\, United States
CATEGORIES:Bible Study,Community
ATTACH;FMTTYPE=image/jpeg:https://pilgrimsm.org/wp-content/uploads/2025/02/iStock-2148218840-scaled.jpg
GEO:40.602991;-73.959517
X-APPLE-STRUCTURED-LOCATION;VALUE=URI;X-ADDRESS=Pilgrim Lutheran Church 1730 Wilshire Blvd. Santa Monica CA 90403 United States;X-APPLE-RADIUS=500;X-TITLE=1730 Wilshire Blvd.:geo:-73.959517,40.602991
END:VEVENT
END:VCALENDAR