BEGIN:VCALENDAR
VERSION:2.0
PRODID:-//Pilgrim Lutheran Church - ECPv6.15.20//NONSGML v1.0//EN
CALSCALE:GREGORIAN
METHOD:PUBLISH
X-ORIGINAL-URL:https://pilgrimsm.org
X-WR-CALDESC:Events for Pilgrim Lutheran Church
REFRESH-INTERVAL;VALUE=DURATION:PT1H
X-Robots-Tag:noindex
X-PUBLISHED-TTL:PT1H
BEGIN:VTIMEZONE
TZID:America/Los_Angeles
BEGIN:DAYLIGHT
TZOFFSETFROM:-0800
TZOFFSETTO:-0700
TZNAME:PDT
DTSTART:20250309T100000
END:DAYLIGHT
BEGIN:STANDARD
TZOFFSETFROM:-0700
TZOFFSETTO:-0800
TZNAME:PST
DTSTART:20251102T090000
END:STANDARD
BEGIN:DAYLIGHT
TZOFFSETFROM:-0800
TZOFFSETTO:-0700
TZNAME:PDT
DTSTART:20260308T100000
END:DAYLIGHT
BEGIN:STANDARD
TZOFFSETFROM:-0700
TZOFFSETTO:-0800
TZNAME:PST
DTSTART:20261101T090000
END:STANDARD
BEGIN:DAYLIGHT
TZOFFSETFROM:-0800
TZOFFSETTO:-0700
TZNAME:PDT
DTSTART:20270314T100000
END:DAYLIGHT
BEGIN:STANDARD
TZOFFSETFROM:-0700
TZOFFSETTO:-0800
TZNAME:PST
DTSTART:20271107T090000
END:STANDARD
END:VTIMEZONE
BEGIN:VEVENT
DTSTART;TZID=America/Los_Angeles:20260208T090000
DTEND;TZID=America/Los_Angeles:20260208T095000
DTSTAMP:20260423T163442
CREATED:20260204T222031Z
LAST-MODIFIED:20260204T222031Z
UID:10001413-1770541200-1770544200@pilgrimsm.org
SUMMARY:Sunday Bible Study
DESCRIPTION:Join Pilgrim Lutheran Church as we dig into the Bible before every Sunday service. We gather to seek wisdom and truth from God’s word\, asking difficult questions and learning about the context of each passage. \n 
URL:https://pilgrimsm.org/event/sunday-bible-study/2026-02-08/
LOCATION:Pilgrim Lutheran Church\, 1730 Wilshire Blvd.\, Santa Monica\, CA\, 90403\, United States
CATEGORIES:Bible Study,Community
ATTACH;FMTTYPE=image/jpeg:https://pilgrimsm.org/wp-content/uploads/2025/02/iStock-2148218840-scaled.jpg
GEO:40.602991;-73.959517
X-APPLE-STRUCTURED-LOCATION;VALUE=URI;X-ADDRESS=Pilgrim Lutheran Church 1730 Wilshire Blvd. Santa Monica CA 90403 United States;X-APPLE-RADIUS=500;X-TITLE=1730 Wilshire Blvd.:geo:-73.959517,40.602991
END:VEVENT
BEGIN:VEVENT
DTSTART;TZID=America/Los_Angeles:20260215T090000
DTEND;TZID=America/Los_Angeles:20260215T095000
DTSTAMP:20260423T163442
CREATED:20260204T222031Z
LAST-MODIFIED:20260204T222031Z
UID:10001414-1771146000-1771149000@pilgrimsm.org
SUMMARY:Sunday Bible Study
DESCRIPTION:Join Pilgrim Lutheran Church as we dig into the Bible before every Sunday service. We gather to seek wisdom and truth from God’s word\, asking difficult questions and learning about the context of each passage. \n 
URL:https://pilgrimsm.org/event/sunday-bible-study/2026-02-15/
LOCATION:Pilgrim Lutheran Church\, 1730 Wilshire Blvd.\, Santa Monica\, CA\, 90403\, United States
CATEGORIES:Bible Study,Community
ATTACH;FMTTYPE=image/jpeg:https://pilgrimsm.org/wp-content/uploads/2025/02/iStock-2148218840-scaled.jpg
GEO:40.602991;-73.959517
X-APPLE-STRUCTURED-LOCATION;VALUE=URI;X-ADDRESS=Pilgrim Lutheran Church 1730 Wilshire Blvd. Santa Monica CA 90403 United States;X-APPLE-RADIUS=500;X-TITLE=1730 Wilshire Blvd.:geo:-73.959517,40.602991
END:VEVENT
BEGIN:VEVENT
DTSTART;TZID=America/Los_Angeles:20260222T090000
DTEND;TZID=America/Los_Angeles:20260222T095000
DTSTAMP:20260423T163442
CREATED:20260204T222031Z
LAST-MODIFIED:20260204T222031Z
UID:10001415-1771750800-1771753800@pilgrimsm.org
SUMMARY:Sunday Bible Study
DESCRIPTION:Join Pilgrim Lutheran Church as we dig into the Bible before every Sunday service. We gather to seek wisdom and truth from God’s word\, asking difficult questions and learning about the context of each passage. \n 
URL:https://pilgrimsm.org/event/sunday-bible-study/2026-02-22/
LOCATION:Pilgrim Lutheran Church\, 1730 Wilshire Blvd.\, Santa Monica\, CA\, 90403\, United States
CATEGORIES:Bible Study,Community
ATTACH;FMTTYPE=image/jpeg:https://pilgrimsm.org/wp-content/uploads/2025/02/iStock-2148218840-scaled.jpg
GEO:40.602991;-73.959517
X-APPLE-STRUCTURED-LOCATION;VALUE=URI;X-ADDRESS=Pilgrim Lutheran Church 1730 Wilshire Blvd. Santa Monica CA 90403 United States;X-APPLE-RADIUS=500;X-TITLE=1730 Wilshire Blvd.:geo:-73.959517,40.602991
END:VEVENT
BEGIN:VEVENT
DTSTART;TZID=America/Los_Angeles:20260301T090000
DTEND;TZID=America/Los_Angeles:20260301T095000
DTSTAMP:20260423T163442
CREATED:20260204T222031Z
LAST-MODIFIED:20260204T222031Z
UID:10001416-1772355600-1772358600@pilgrimsm.org
SUMMARY:Sunday Bible Study
DESCRIPTION:Join Pilgrim Lutheran Church as we dig into the Bible before every Sunday service. We gather to seek wisdom and truth from God’s word\, asking difficult questions and learning about the context of each passage. \n 
URL:https://pilgrimsm.org/event/sunday-bible-study/2026-03-01/
LOCATION:Pilgrim Lutheran Church\, 1730 Wilshire Blvd.\, Santa Monica\, CA\, 90403\, United States
CATEGORIES:Bible Study,Community
ATTACH;FMTTYPE=image/jpeg:https://pilgrimsm.org/wp-content/uploads/2025/02/iStock-2148218840-scaled.jpg
GEO:40.602991;-73.959517
X-APPLE-STRUCTURED-LOCATION;VALUE=URI;X-ADDRESS=Pilgrim Lutheran Church 1730 Wilshire Blvd. Santa Monica CA 90403 United States;X-APPLE-RADIUS=500;X-TITLE=1730 Wilshire Blvd.:geo:-73.959517,40.602991
END:VEVENT
BEGIN:VEVENT
DTSTART;TZID=America/Los_Angeles:20260308T090000
DTEND;TZID=America/Los_Angeles:20260308T095000
DTSTAMP:20260423T163442
CREATED:20260204T222031Z
LAST-MODIFIED:20260204T222031Z
UID:10001417-1772960400-1772963400@pilgrimsm.org
SUMMARY:Sunday Bible Study
DESCRIPTION:Join Pilgrim Lutheran Church as we dig into the Bible before every Sunday service. We gather to seek wisdom and truth from God’s word\, asking difficult questions and learning about the context of each passage. \n 
URL:https://pilgrimsm.org/event/sunday-bible-study/2026-03-08/
LOCATION:Pilgrim Lutheran Church\, 1730 Wilshire Blvd.\, Santa Monica\, CA\, 90403\, United States
CATEGORIES:Bible Study,Community
ATTACH;FMTTYPE=image/jpeg:https://pilgrimsm.org/wp-content/uploads/2025/02/iStock-2148218840-scaled.jpg
GEO:40.602991;-73.959517
X-APPLE-STRUCTURED-LOCATION;VALUE=URI;X-ADDRESS=Pilgrim Lutheran Church 1730 Wilshire Blvd. Santa Monica CA 90403 United States;X-APPLE-RADIUS=500;X-TITLE=1730 Wilshire Blvd.:geo:-73.959517,40.602991
END:VEVENT
BEGIN:VEVENT
DTSTART;TZID=America/Los_Angeles:20260315T090000
DTEND;TZID=America/Los_Angeles:20260315T095000
DTSTAMP:20260423T163442
CREATED:20260204T222031Z
LAST-MODIFIED:20260204T222031Z
UID:10001418-1773565200-1773568200@pilgrimsm.org
SUMMARY:Sunday Bible Study
DESCRIPTION:Join Pilgrim Lutheran Church as we dig into the Bible before every Sunday service. We gather to seek wisdom and truth from God’s word\, asking difficult questions and learning about the context of each passage. \n 
URL:https://pilgrimsm.org/event/sunday-bible-study/2026-03-15/
LOCATION:Pilgrim Lutheran Church\, 1730 Wilshire Blvd.\, Santa Monica\, CA\, 90403\, United States
CATEGORIES:Bible Study,Community
ATTACH;FMTTYPE=image/jpeg:https://pilgrimsm.org/wp-content/uploads/2025/02/iStock-2148218840-scaled.jpg
GEO:40.602991;-73.959517
X-APPLE-STRUCTURED-LOCATION;VALUE=URI;X-ADDRESS=Pilgrim Lutheran Church 1730 Wilshire Blvd. Santa Monica CA 90403 United States;X-APPLE-RADIUS=500;X-TITLE=1730 Wilshire Blvd.:geo:-73.959517,40.602991
END:VEVENT
BEGIN:VEVENT
DTSTART;TZID=America/Los_Angeles:20260322T090000
DTEND;TZID=America/Los_Angeles:20260322T095000
DTSTAMP:20260423T163442
CREATED:20260204T222031Z
LAST-MODIFIED:20260204T222031Z
UID:10001419-1774170000-1774173000@pilgrimsm.org
SUMMARY:Sunday Bible Study
DESCRIPTION:Join Pilgrim Lutheran Church as we dig into the Bible before every Sunday service. We gather to seek wisdom and truth from God’s word\, asking difficult questions and learning about the context of each passage. \n 
URL:https://pilgrimsm.org/event/sunday-bible-study/2026-03-22/
LOCATION:Pilgrim Lutheran Church\, 1730 Wilshire Blvd.\, Santa Monica\, CA\, 90403\, United States
CATEGORIES:Bible Study,Community
ATTACH;FMTTYPE=image/jpeg:https://pilgrimsm.org/wp-content/uploads/2025/02/iStock-2148218840-scaled.jpg
GEO:40.602991;-73.959517
X-APPLE-STRUCTURED-LOCATION;VALUE=URI;X-ADDRESS=Pilgrim Lutheran Church 1730 Wilshire Blvd. Santa Monica CA 90403 United States;X-APPLE-RADIUS=500;X-TITLE=1730 Wilshire Blvd.:geo:-73.959517,40.602991
END:VEVENT
BEGIN:VEVENT
DTSTART;TZID=America/Los_Angeles:20260329T090000
DTEND;TZID=America/Los_Angeles:20260329T095000
DTSTAMP:20260423T163442
CREATED:20260204T222031Z
LAST-MODIFIED:20260204T222031Z
UID:10001420-1774774800-1774777800@pilgrimsm.org
SUMMARY:Sunday Bible Study
DESCRIPTION:Join Pilgrim Lutheran Church as we dig into the Bible before every Sunday service. We gather to seek wisdom and truth from God’s word\, asking difficult questions and learning about the context of each passage. \n 
URL:https://pilgrimsm.org/event/sunday-bible-study/2026-03-29/
LOCATION:Pilgrim Lutheran Church\, 1730 Wilshire Blvd.\, Santa Monica\, CA\, 90403\, United States
CATEGORIES:Bible Study,Community
ATTACH;FMTTYPE=image/jpeg:https://pilgrimsm.org/wp-content/uploads/2025/02/iStock-2148218840-scaled.jpg
GEO:40.602991;-73.959517
X-APPLE-STRUCTURED-LOCATION;VALUE=URI;X-ADDRESS=Pilgrim Lutheran Church 1730 Wilshire Blvd. Santa Monica CA 90403 United States;X-APPLE-RADIUS=500;X-TITLE=1730 Wilshire Blvd.:geo:-73.959517,40.602991
END:VEVENT
BEGIN:VEVENT
DTSTART;TZID=America/Los_Angeles:20260405T090000
DTEND;TZID=America/Los_Angeles:20260405T095000
DTSTAMP:20260423T163442
CREATED:20260204T222031Z
LAST-MODIFIED:20260204T222031Z
UID:10001421-1775379600-1775382600@pilgrimsm.org
SUMMARY:Sunday Bible Study
DESCRIPTION:Join Pilgrim Lutheran Church as we dig into the Bible before every Sunday service. We gather to seek wisdom and truth from God’s word\, asking difficult questions and learning about the context of each passage. \n 
URL:https://pilgrimsm.org/event/sunday-bible-study/2026-04-05/
LOCATION:Pilgrim Lutheran Church\, 1730 Wilshire Blvd.\, Santa Monica\, CA\, 90403\, United States
CATEGORIES:Bible Study,Community
ATTACH;FMTTYPE=image/jpeg:https://pilgrimsm.org/wp-content/uploads/2025/02/iStock-2148218840-scaled.jpg
GEO:40.602991;-73.959517
X-APPLE-STRUCTURED-LOCATION;VALUE=URI;X-ADDRESS=Pilgrim Lutheran Church 1730 Wilshire Blvd. Santa Monica CA 90403 United States;X-APPLE-RADIUS=500;X-TITLE=1730 Wilshire Blvd.:geo:-73.959517,40.602991
END:VEVENT
BEGIN:VEVENT
DTSTART;TZID=America/Los_Angeles:20260412T090000
DTEND;TZID=America/Los_Angeles:20260412T095000
DTSTAMP:20260423T163442
CREATED:20260204T222031Z
LAST-MODIFIED:20260204T222031Z
UID:10001422-1775984400-1775987400@pilgrimsm.org
SUMMARY:Sunday Bible Study
DESCRIPTION:Join Pilgrim Lutheran Church as we dig into the Bible before every Sunday service. We gather to seek wisdom and truth from God’s word\, asking difficult questions and learning about the context of each passage. \n 
URL:https://pilgrimsm.org/event/sunday-bible-study/2026-04-12/
LOCATION:Pilgrim Lutheran Church\, 1730 Wilshire Blvd.\, Santa Monica\, CA\, 90403\, United States
CATEGORIES:Bible Study,Community
ATTACH;FMTTYPE=image/jpeg:https://pilgrimsm.org/wp-content/uploads/2025/02/iStock-2148218840-scaled.jpg
GEO:40.602991;-73.959517
X-APPLE-STRUCTURED-LOCATION;VALUE=URI;X-ADDRESS=Pilgrim Lutheran Church 1730 Wilshire Blvd. Santa Monica CA 90403 United States;X-APPLE-RADIUS=500;X-TITLE=1730 Wilshire Blvd.:geo:-73.959517,40.602991
END:VEVENT
BEGIN:VEVENT
DTSTART;TZID=America/Los_Angeles:20260419T090000
DTEND;TZID=America/Los_Angeles:20260419T095000
DTSTAMP:20260423T163442
CREATED:20260204T222031Z
LAST-MODIFIED:20260204T222031Z
UID:10001423-1776589200-1776592200@pilgrimsm.org
SUMMARY:Sunday Bible Study
DESCRIPTION:Join Pilgrim Lutheran Church as we dig into the Bible before every Sunday service. We gather to seek wisdom and truth from God’s word\, asking difficult questions and learning about the context of each passage. \n 
URL:https://pilgrimsm.org/event/sunday-bible-study/2026-04-19/
LOCATION:Pilgrim Lutheran Church\, 1730 Wilshire Blvd.\, Santa Monica\, CA\, 90403\, United States
CATEGORIES:Bible Study,Community
ATTACH;FMTTYPE=image/jpeg:https://pilgrimsm.org/wp-content/uploads/2025/02/iStock-2148218840-scaled.jpg
GEO:40.602991;-73.959517
X-APPLE-STRUCTURED-LOCATION;VALUE=URI;X-ADDRESS=Pilgrim Lutheran Church 1730 Wilshire Blvd. Santa Monica CA 90403 United States;X-APPLE-RADIUS=500;X-TITLE=1730 Wilshire Blvd.:geo:-73.959517,40.602991
END:VEVENT
END:VCALENDAR